BEGIN:VCALENDAR
VERSION:2.0
PRODID:-//Squarespace Inc/Squarespace 6//v6//EN
BEGIN:VEVENT
UID:5becd2e2b8a045af545fced2@squarespace.com
DTSTAMP:20181115T020735Z
DTSTART:20181121T000000Z
DTEND:20181121T020000Z
SUMMARY:Vibrational Sound Meditation
GEO:-28.78061;114.60087
LOCATION:Hot Locs Hair Body & Soul\, 23 Burges Street\, Beachlands\, WA\, 6
 530\, Australia
END:VEVENT
END:VCALENDAR
