BEGIN:VCALENDAR
VERSION:2.0
PRODID:-//Squarespace Inc/Squarespace 6//v6//EN
BEGIN:VEVENT
UID:5ba1e3344fa51a7fb2bda7c4@squarespace.com
DTSTAMP:20181031T025250Z
DTSTART:20181114T180000Z
DTEND:20181114T190000Z
SUMMARY:Meditation Workshop
GEO:-28.78061;114.60087
LOCATION:Hot Locs Hair Body and Soul\, 23 Burges Street\, Beachlands\, Wa\, 
 Australia
END:VEVENT
END:VCALENDAR
