BEGIN:VCALENDAR
VERSION:2.0
PRODID:-//Squarespace Inc/Squarespace 6//v6//EN
BEGIN:VEVENT
UID:5cd26fe108522957d7fb847c@squarespace.com
DTSTAMP:20190911T050908Z
DTSTART:20191009T140000Z
DTEND:20191009T200000Z
SUMMARY:Girlosophy One Day Workshop
GEO:-28.78061;114.60087
LOCATION:Hot Locs Hair Body & Soul\, 23 Burgess Street\, Geraldton\, Austra
 lia
END:VEVENT
END:VCALENDAR
