BEGIN:VCALENDAR
VERSION:2.0
PRODID:-//Squarespace Inc/Squarespace 6//v6//EN
BEGIN:VEVENT
UID:5c401548cd8366946e720cdb@squarespace.com
DTSTAMP:20190117T064102Z
DTSTART:20190212T203000Z
DTEND:20190312T203000Z
SUMMARY:Girlosophy Workshop
GEO:-28.78061;114.60087
LOCATION:Hot Locs Hair\, Body & Soul\, 23 Burges Street\, Beachlands\, WA\, 
 6530\, Australia
END:VEVENT
END:VCALENDAR
