BEGIN:VCALENDAR
VERSION:2.0
PRODID:-//Squarespace Inc/Squarespace 6//v6//EN
BEGIN:VEVENT
UID:5bfe007e0ebbe8cd1e236b7e@squarespace.com
DTSTAMP:20181128T031142Z
DTSTART:20181206T220000Z
DTEND:20181207T013000Z
SUMMARY:Christmas on the Terrace 
GEO:-28.778672;114.594958
LOCATION:Hot Locs Hair\, Body & Soul\, Marine Terrace\, Geraldton\, Western 
 Australia 6530
END:VEVENT
END:VCALENDAR
