BEGIN:VCALENDAR
VERSION:2.0
PRODID:-//Squarespace Inc/Squarespace 6//v6//EN
BEGIN:VEVENT
UID:5de86385dd274418207937d0@squarespace.com
DTSTAMP:20191205T023556Z
DTSTART:20200115T150000Z
DTEND:20200115T210000Z
SUMMARY:Girlosophy One Day Workshop
END:VEVENT
END:VCALENDAR
